BEGIN:VCALENDAR
VERSION:2.0
PRODID:-//La Paloma Academy: Central - ECPv5.16.4//NONSGML v1.0//EN
CALSCALE:GREGORIAN
METHOD:PUBLISH
X-WR-CALNAME:La Paloma Academy: Central
X-ORIGINAL-URL:https://lpatucson.org/central
X-WR-CALDESC:Events for La Paloma Academy: Central
BEGIN:VTIMEZONE
TZID:America/Phoenix
BEGIN:STANDARD
TZOFFSETFROM:-0700
TZOFFSETTO:-0700
TZNAME:MST
DTSTART:20200101T000000
END:STANDARD
END:VTIMEZONE
BEGIN:VEVENT
DTSTART;TZID=America/Phoenix:20201119T080000
DTEND;TZID=America/Phoenix:20201126T170000
DTSTAMP:20260423T044637
CREATED:20201029T191619Z
LAST-MODIFIED:20201102T223137Z
UID:7796-1605772800-1606410000@lpatucson.org
SUMMARY:Book Fair Scholastic Online
DESCRIPTION:Book Fair Scholastic Online
URL:https://lpatucson.org/central/event/book-fair-scholastic-online/
LOCATION:2050 N Wilmot Rd\, Tucson\, AZ\, 85712\, United States
END:VEVENT
END:VCALENDAR