BEGIN:VCALENDAR
VERSION:2.0
PRODID:-//La Paloma Academy: Central - ECPv5.16.4//NONSGML v1.0//EN
CALSCALE:GREGORIAN
METHOD:PUBLISH
X-WR-CALNAME:La Paloma Academy: Central
X-ORIGINAL-URL:https://lpatucson.org/central
X-WR-CALDESC:Events for La Paloma Academy: Central
BEGIN:VTIMEZONE
TZID:America/Phoenix
BEGIN:STANDARD
TZOFFSETFROM:-0700
TZOFFSETTO:-0700
TZNAME:MST
DTSTART:20170101T000000
END:STANDARD
END:VTIMEZONE
BEGIN:VEVENT
DTSTART;VALUE=DATE:20171030
DTEND;VALUE=DATE:20171031
DTSTAMP:20260421T110440
CREATED:20171024T163945Z
LAST-MODIFIED:20171030T163924Z
UID:5073-1509321600-1509407999@lpatucson.org
SUMMARY:Cookie Dough Sale Starts
DESCRIPTION:October 30 will mark the start of our annual Cookie Dough Fundraiser. This event not only helps the school\, but the delicious\, pre-made dough can also make holiday baking significantly easier. The Cookie Dough Fundraiser ends on November 15. As always\, your participation in all our fundraising events is appreciated.
URL:https://lpatucson.org/central/event/cookie-dough-sale-starts-2/
END:VEVENT
END:VCALENDAR