BEGIN:VCALENDAR
VERSION:2.0
PRODID:-//La Paloma Academy: Central - ECPv5.16.4//NONSGML v1.0//EN
CALSCALE:GREGORIAN
METHOD:PUBLISH
X-WR-CALNAME:La Paloma Academy: Central
X-ORIGINAL-URL:https://lpatucson.org/central
X-WR-CALDESC:Events for La Paloma Academy: Central
BEGIN:VTIMEZONE
TZID:America/Phoenix
BEGIN:STANDARD
TZOFFSETFROM:-0700
TZOFFSETTO:-0700
TZNAME:MST
DTSTART:20200101T000000
END:STANDARD
END:VTIMEZONE
BEGIN:VEVENT
DTSTART;TZID=America/Phoenix:20201218T080000
DTEND;TZID=America/Phoenix:20201218T170000
DTSTAMP:20260421T080307
CREATED:20200824T222141Z
LAST-MODIFIED:20200824T222142Z
UID:7684-1608278400-1608310800@lpatucson.org
SUMMARY:End of 2nd Quarter
DESCRIPTION:End of 2nd Quarter
URL:https://lpatucson.org/central/event/end-of-2nd-quarter/
LOCATION:2050 N Wilmot Rd\, Tucson\, AZ\, 85712\, United States
END:VEVENT
END:VCALENDAR