BEGIN:VCALENDAR
VERSION:2.0
PRODID:-//La Paloma Academy: Central - ECPv5.16.4//NONSGML v1.0//EN
CALSCALE:GREGORIAN
METHOD:PUBLISH
X-WR-CALNAME:La Paloma Academy: Central
X-ORIGINAL-URL:https://lpatucson.org/central
X-WR-CALDESC:Events for La Paloma Academy: Central
BEGIN:VTIMEZONE
TZID:America/Phoenix
BEGIN:STANDARD
TZOFFSETFROM:-0700
TZOFFSETTO:-0700
TZNAME:MST
DTSTART:20180101T000000
END:STANDARD
END:VTIMEZONE
BEGIN:VEVENT
DTSTART;VALUE=DATE:20180806
DTEND;VALUE=DATE:20180808
DTSTAMP:20260425T053310
CREATED:20180803T235707Z
LAST-MODIFIED:20180803T235707Z
UID:5759-1533513600-1533686399@lpatucson.org
SUMMARY:Galileo Pretest
DESCRIPTION:
URL:https://lpatucson.org/central/event/galileo-pretest/
END:VEVENT
END:VCALENDAR