BEGIN:VCALENDAR
VERSION:2.0
PRODID:-//La Paloma Academy: Central - ECPv5.16.4//NONSGML v1.0//EN
CALSCALE:GREGORIAN
METHOD:PUBLISH
X-WR-CALNAME:La Paloma Academy: Central
X-ORIGINAL-URL:https://lpatucson.org/central
X-WR-CALDESC:Events for La Paloma Academy: Central
BEGIN:VTIMEZONE
TZID:America/Phoenix
BEGIN:STANDARD
TZOFFSETFROM:-0700
TZOFFSETTO:-0700
TZNAME:MST
DTSTART:20200101T000000
END:STANDARD
END:VTIMEZONE
BEGIN:VEVENT
DTSTART;TZID=America/Phoenix:20201023T080000
DTEND;TZID=America/Phoenix:20201023T170000
DTSTAMP:20260421T043813
CREATED:20200824T221926Z
LAST-MODIFIED:20200824T221927Z
UID:7676-1603440000-1603472400@lpatucson.org
SUMMARY:Students pictures
DESCRIPTION:Students pictures
URL:https://lpatucson.org/central/event/students-pictures/
LOCATION:2050 N Wilmot Rd\, Tucson\, AZ\, 85712\, United States
END:VEVENT
END:VCALENDAR