BEGIN:VCALENDAR
VERSION:2.0
PRODID:-//La Paloma Academy: Lakeside - ECPv5.16.4//NONSGML v1.0//EN
CALSCALE:GREGORIAN
METHOD:PUBLISH
X-WR-CALNAME:La Paloma Academy: Lakeside
X-ORIGINAL-URL:https://lpatucson.org/lakeside
X-WR-CALDESC:Events for La Paloma Academy: Lakeside
BEGIN:VTIMEZONE
TZID:America/Phoenix
BEGIN:STANDARD
TZOFFSETFROM:-0700
TZOFFSETTO:-0700
TZNAME:MST
DTSTART:20170101T000000
END:STANDARD
END:VTIMEZONE
BEGIN:VEVENT
DTSTART;TZID=America/Phoenix:20171130T110000
DTEND;TZID=America/Phoenix:20171130T220000
DTSTAMP:20260425T052534
CREATED:20171102T235033Z
LAST-MODIFIED:20171107T184109Z
UID:5575-1512039600-1512079200@lpatucson.org
SUMMARY:BJ’s Fundraiser
DESCRIPTION:We’ll be having a fundraiser at BJ’s on November 30th from 11 a.m. to 10 p.m. Take a flyer with you when you go\, and the school will get 20% off your order.
URL:https://lpatucson.org/lakeside/event/bjs-fundraiser/
END:VEVENT
END:VCALENDAR