BEGIN:VCALENDAR
VERSION:2.0
PRODID:-//La Paloma Academy: Lakeside - ECPv5.16.4//NONSGML v1.0//EN
CALSCALE:GREGORIAN
METHOD:PUBLISH
X-WR-CALNAME:La Paloma Academy: Lakeside
X-ORIGINAL-URL:https://lpatucson.org/lakeside
X-WR-CALDESC:Events for La Paloma Academy: Lakeside
BEGIN:VTIMEZONE
TZID:America/Phoenix
BEGIN:STANDARD
TZOFFSETFROM:-0700
TZOFFSETTO:-0700
TZNAME:MST
DTSTART:20170101T000000
END:STANDARD
END:VTIMEZONE
BEGIN:VEVENT
DTSTART;VALUE=DATE:20171130
DTEND;VALUE=DATE:20171201
DTSTAMP:20260425T053213
CREATED:20171103T000839Z
LAST-MODIFIED:20171103T000839Z
UID:5581-1512000000-1512086399@lpatucson.org
SUMMARY:Character Trait Day
DESCRIPTION:On Thursday\, November 30\, we’re asking students to wear green to celebrate responsibility\, this month’s character trait. We’ll be starting Character Trait Day with a Character Breakfast at 9 a.m.\, and we’ll be selling Eegee’s and nachos for $1 each after school.
URL:https://lpatucson.org/lakeside/event/character-trait-day/
END:VEVENT
END:VCALENDAR