BEGIN:VCALENDAR
VERSION:2.0
PRODID:-//La Paloma Academy: Lakeside - ECPv5.16.4//NONSGML v1.0//EN
CALSCALE:GREGORIAN
METHOD:PUBLISH
X-WR-CALNAME:La Paloma Academy: Lakeside
X-ORIGINAL-URL:https://lpatucson.org/lakeside
X-WR-CALDESC:Events for La Paloma Academy: Lakeside
BEGIN:VTIMEZONE
TZID:America/Phoenix
BEGIN:STANDARD
TZOFFSETFROM:-0700
TZOFFSETTO:-0700
TZNAME:MST
DTSTART:20170101T000000
END:STANDARD
END:VTIMEZONE
BEGIN:VEVENT
DTSTART;VALUE=DATE:20170508
DTEND;VALUE=DATE:20170513
DTSTAMP:20260423T180034
CREATED:20170505T164110Z
LAST-MODIFIED:20170505T164110Z
UID:5084-1494201600-1494633599@lpatucson.org
SUMMARY:Spirit Week
DESCRIPTION:May 8-12 will be Spirit Week at La Paloma Lakeside. Every day will be a different way for students to show their school spirit: \nMonday – Color Wars; colors listed on posters\nTuesday – Twin Day\nWednesday – Don’t Wake Me Up; PJ Day\nThursday – Be Your Hero Day; dress as a movie or book character\, an athlete\, or as someone you find inspirational\nFriday – Fired-Up Friday; wear your favorite team or college
URL:https://lpatucson.org/lakeside/event/spirit-week/
END:VEVENT
END:VCALENDAR