BEGIN:VCALENDAR
VERSION:2.0
PRODID:-//La Paloma Academy: Lakeside - ECPv5.16.4//NONSGML v1.0//EN
CALSCALE:GREGORIAN
METHOD:PUBLISH
X-WR-CALNAME:La Paloma Academy: Lakeside
X-ORIGINAL-URL:https://lpatucson.org/lakeside
X-WR-CALDESC:Events for La Paloma Academy: Lakeside
BEGIN:VTIMEZONE
TZID:America/Phoenix
BEGIN:STANDARD
TZOFFSETFROM:-0700
TZOFFSETTO:-0700
TZNAME:MST
DTSTART:20170101T000000
END:STANDARD
END:VTIMEZONE
BEGIN:VEVENT
DTSTART;TZID=America/Phoenix:20170530T073000
DTEND;TZID=America/Phoenix:20170530T180000
DTSTAMP:20260423T074150
CREATED:20170414T221350Z
LAST-MODIFIED:20170502T181455Z
UID:5002-1496129400-1496167200@lpatucson.org
SUMMARY:Summer Camp
DESCRIPTION:Keep your student from getting bored during the long summer break by enrolling them in La Paloma’s Summer Camp program. We’ll keep kids—and their brains—busy with daily activities like swimming\, volleyball\, bowling\, enrichment classes\, two weekly field trips\, and more! La Paloma Summer Camp takes place Monday through Friday\, 7:30 a.m. to 6 p.m.\, May 30 to July 21.
URL:https://lpatucson.org/lakeside/event/summer-camp/
END:VEVENT
END:VCALENDAR