BEGIN:VCALENDAR
VERSION:2.0
PRODID:-//La Paloma Academy: Lakeside - ECPv5.16.4//NONSGML v1.0//EN
CALSCALE:GREGORIAN
METHOD:PUBLISH
X-WR-CALNAME:La Paloma Academy: Lakeside
X-ORIGINAL-URL:https://lpatucson.org/lakeside
X-WR-CALDESC:Events for La Paloma Academy: Lakeside
BEGIN:VTIMEZONE
TZID:America/Phoenix
BEGIN:STANDARD
TZOFFSETFROM:-0700
TZOFFSETTO:-0700
TZNAME:MST
DTSTART:20190101T000000
END:STANDARD
END:VTIMEZONE
BEGIN:VEVENT
DTSTART;TZID=America/Phoenix:20190904T000000
DTEND;TZID=America/Phoenix:20190904T000000
DTSTAMP:20260421T095052
CREATED:20190814T182119Z
LAST-MODIFIED:20190814T182119Z
UID:7858-1567555200-1567555200@lpatucson.org
SUMMARY:Wednesdays are free dress down days. Wear yellow for Respect.
DESCRIPTION:
URL:https://lpatucson.org/lakeside/event/wednesdays-are-free-dress-down-days-wear-yellow-for-respect/
END:VEVENT
END:VCALENDAR