BEGIN:VCALENDAR
VERSION:2.0
PRODID:-//La Paloma Academy: South - ECPv5.16.4//NONSGML v1.0//EN
CALSCALE:GREGORIAN
METHOD:PUBLISH
X-WR-CALNAME:La Paloma Academy: South
X-ORIGINAL-URL:https://lpatucson.org/south
X-WR-CALDESC:Events for La Paloma Academy: South
BEGIN:VTIMEZONE
TZID:America/Phoenix
BEGIN:STANDARD
TZOFFSETFROM:-0700
TZOFFSETTO:-0700
TZNAME:MST
DTSTART:20200101T000000
END:STANDARD
END:VTIMEZONE
BEGIN:VEVENT
DTSTART;TZID=America/Phoenix:20200312T000000
DTEND;TZID=America/Phoenix:20200313T000000
DTSTAMP:20260421T191124
CREATED:20190722T162643Z
LAST-MODIFIED:20190926T171350Z
UID:6127-1583971200-1584057600@lpatucson.org
SUMMARY:Parent-Teacher Conferences\,Half-Day 1:30 Dismissal\,  Full after school services\,  Grades are due.
DESCRIPTION:
URL:https://lpatucson.org/south/event/__trashed-4__trashed/
END:VEVENT
END:VCALENDAR