BEGIN:VCALENDAR
VERSION:2.0
PRODID:-//La Paloma Academy: South - ECPv5.16.4//NONSGML v1.0//EN
CALSCALE:GREGORIAN
METHOD:PUBLISH
X-WR-CALNAME:La Paloma Academy: South
X-ORIGINAL-URL:https://lpatucson.org/south
X-WR-CALDESC:Events for La Paloma Academy: South
BEGIN:VTIMEZONE
TZID:America/Phoenix
BEGIN:STANDARD
TZOFFSETFROM:-0700
TZOFFSETTO:-0700
TZNAME:MST
DTSTART:20200101T000000
END:STANDARD
END:VTIMEZONE
BEGIN:VEVENT
DTSTART;TZID=America/Phoenix:20200316T000000
DTEND;TZID=America/Phoenix:20200320T000000
DTSTAMP:20260421T191909
CREATED:20190722T162643Z
LAST-MODIFIED:20190926T161607Z
UID:6128-1584316800-1584662400@lpatucson.org
SUMMARY:Spring Break
DESCRIPTION:
URL:https://lpatucson.org/south/event/__trashed-3__trashed/
END:VEVENT
END:VCALENDAR